BEGIN:VCALENDAR
VERSION:2.0
PRODID:-//V-Sprint Club - ECPv6.15.20//NONSGML v1.0//EN
CALSCALE:GREGORIAN
METHOD:PUBLISH
X-WR-CALNAME:V-Sprint Club
X-ORIGINAL-URL:https://club.v-sprint.com
X-WR-CALDESC:Events for V-Sprint Club
REFRESH-INTERVAL;VALUE=DURATION:PT1H
X-Robots-Tag:noindex
X-PUBLISHED-TTL:PT1H
BEGIN:VTIMEZONE
TZID:UTC
BEGIN:STANDARD
TZOFFSETFROM:+0000
TZOFFSETTO:+0000
TZNAME:UTC
DTSTART:20180101T000000
END:STANDARD
END:VTIMEZONE
BEGIN:VEVENT
DTSTART;TZID=UTC:20200217T193000
DTEND;TZID=UTC:20200217T203000
DTSTAMP:20260419T190658
CREATED:20191216T092622Z
LAST-MODIFIED:20191231T173226Z
UID:3178-1581967800-1581971400@club.v-sprint.com
SUMMARY:Pilates with Emma
DESCRIPTION:No previous experience needed\, great for strength and flexibility. \nEmma’s a qualified Physiotherapist so perfect for injury recovery/prevention. \nSpecial rates for club members.
URL:https://club.v-sprint.com/event/pilates-with-emma-7/
LOCATION:Wishing Well\, 16 St John Street\, Bromsgrove\, Worcestershire\, B61 8QY\, United Kingdom
END:VEVENT
BEGIN:VEVENT
DTSTART;TZID=UTC:20200210T193000
DTEND;TZID=UTC:20200210T203000
DTSTAMP:20260419T190658
CREATED:20191216T092507Z
LAST-MODIFIED:20191231T173346Z
UID:3176-1581363000-1581366600@club.v-sprint.com
SUMMARY:Pilates with Emma
DESCRIPTION:No previous experience needed\, great for strength and flexibility. \nEmma’s a qualified Physiotherapist so perfect for injury recovery/prevention. \nSpecial rates for club members.
URL:https://club.v-sprint.com/event/pilates-with-emma-6/
LOCATION:Wishing Well\, 16 St John Street\, Bromsgrove\, Worcestershire\, B61 8QY\, United Kingdom
END:VEVENT
BEGIN:VEVENT
DTSTART;VALUE=DATE:20200208
DTEND;VALUE=DATE:20200209
DTSTAMP:20260419T190658
CREATED:20200131T193045Z
LAST-MODIFIED:20200131T193045Z
UID:3293-1581120000-1581206399@club.v-sprint.com
SUMMARY:Saturday Social Ride - Dolphin Pub Bishampton
DESCRIPTION:Hi All \nV-Sprint intend to join this 1st off event using the Saturday morning social ride. So if your interested join us:-\nThere will be more notification on Twitter and WhatsApp nearer the date \n============================================================= \nYou and your cycling group are cordially invited to our “Pop up” café at the Dolphin Pub in Bishampton on Saturday 8th of February 8am – 1pm (we are primarily directing this to the cycling fraternity). \nThe day will be run for cyclists by cyclists. Doug Pinkerton a well renowned bike builder will be on hand as mechanic for free minor adjustments and advice with a limited stock of parts https://pinkertonclassiccycles.co.uk/ .\nThere will also be a cash only bike washing facility (£2.50). \nFood will be locally sourced where possible and quick!.. to get you back on the bike as soon as possible. We will be offering generous sandwiches along with homemade cakes; including vegan and other dietary options (including low GI to keep you going if you have a long cycle home). \nWe hope to make the café a regular offering to help support our community run pub.
URL:https://club.v-sprint.com/event/saturday-social-ride-dolphin-pub-bishampton/
CATEGORIES:Rides,Social
ORGANIZER;CN="Lee Gardner":MAILTO:lee@club.v-sprint.com
END:VEVENT
BEGIN:VEVENT
DTSTART;VALUE=DATE:20200208
DTEND;VALUE=DATE:20200209
DTSTAMP:20260419T190658
CREATED:20191230T112123Z
LAST-MODIFIED:20200113T003654Z
UID:3188-1581120000-1581206399@club.v-sprint.com
SUMMARY:V-Sprint 100
DESCRIPTION:
URL:https://club.v-sprint.com/event/v-sprint-100-3/
LOCATION:Banners\, 12 Finstall Road\, Bromsgrove\, Worcestershire\, B60 2DZ\, United Kingdom
CATEGORIES:Rides
END:VEVENT
BEGIN:VEVENT
DTSTART;TZID=UTC:20200203T193000
DTEND;TZID=UTC:20200203T203000
DTSTAMP:20260419T190658
CREATED:20191216T092404Z
LAST-MODIFIED:20191231T173841Z
UID:3174-1580758200-1580761800@club.v-sprint.com
SUMMARY:Pilates with Emma
DESCRIPTION:No previous experience needed\, great for strength and flexibility. \nEmma’s a qualified Physiotherapist so perfect for injury recovery/prevention. \nSpecial rates for club members.
URL:https://club.v-sprint.com/event/pilates-with-emma-5/
LOCATION:Wishing Well\, 16 St John Street\, Bromsgrove\, Worcestershire\, B61 8QY\, United Kingdom
END:VEVENT
BEGIN:VEVENT
DTSTART;VALUE=DATE:20200201
DTEND;VALUE=DATE:20200202
DTSTAMP:20260419T190658
CREATED:20200112T215445Z
LAST-MODIFIED:20200112T215445Z
UID:3235-1580515200-1580601599@club.v-sprint.com
SUMMARY:Bill's Theocsbury Ramble - 110km Audax
DESCRIPTION:110km cycling event starting from Tewkesbury. Controls at Stratford -upon-Avon.\, plus 4 information controls. \nAn A-road-free day. Cycle a journey similar to one that William Shakespeare often made. A benign route mainly on minor roads\, lanes and non-motorised routes. \nThe entire route is spent in the vale of Evesham\, so no hills to worry about\, just leisurely cycling along a benign route taking through picturesque Gloucestershire\, Worcestershire and Warwickshire. Comprehensive event details (soft) supplied to all entrants. No need for SAEs as ride will be validated at arrivee. GPS\,Route sheet & ride details will be distributed 2 weeks before event.
URL:https://club.v-sprint.com/event/bills-theocsbury-ramble-110km-audax/
CATEGORIES:Audax,Rides
END:VEVENT
BEGIN:VEVENT
DTSTART;TZID=UTC:20200127T193000
DTEND;TZID=UTC:20200127T203000
DTSTAMP:20260419T190658
CREATED:20191216T091432Z
LAST-MODIFIED:20191231T173421Z
UID:3172-1580153400-1580157000@club.v-sprint.com
SUMMARY:Pilates with Emma
DESCRIPTION:No previous experience needed\, great for strength and flexibility. \nEmma’s a qualified Physiotherapist so perfect for injury recovery/prevention. \nSpecial rates for club members.
URL:https://club.v-sprint.com/event/pilates-with-emma-4/
LOCATION:Wishing Well\, 16 St John Street\, Bromsgrove\, Worcestershire\, B61 8QY\, United Kingdom
END:VEVENT
BEGIN:VEVENT
DTSTART;VALUE=DATE:20200126
DTEND;VALUE=DATE:20200127
DTSTAMP:20260419T190658
CREATED:20200112T214723Z
LAST-MODIFIED:20200112T215835Z
UID:3231-1579996800-1580083199@club.v-sprint.com
SUMMARY:Ludlow CC Reliability Ride
DESCRIPTION:There are two routes 70 mile and 46 mile\, the long route provides plenty of opportunity to test your climbing fitness. \nFingers crossed the weather holds out and we have mild dry conditions like last year. \nRegistration opens at 08:45am at the Teme Leisure Centre\, Ludlow. \nRiders leave between 09:15 – 9:40am \nShort Route – TBC \nLong Route – TBC \n\n\n 
URL:https://club.v-sprint.com/event/ludlow-cc-reliability/
LOCATION:Teme Leisure Centre\, Ludlow
CATEGORIES:Reliability,Rides
END:VEVENT
BEGIN:VEVENT
DTSTART;TZID=UTC:20200120T193000
DTEND;TZID=UTC:20200120T203000
DTSTAMP:20260419T190658
CREATED:20191216T082822Z
LAST-MODIFIED:20191231T173452Z
UID:3166-1579548600-1579552200@club.v-sprint.com
SUMMARY:Pilates with Emma
DESCRIPTION:No previous experience needed\, great for strength and flexibility. \nEmma’s a qualified Physiotherapist so perfect for injury recovery/prevention. \nSpecial rates for club members.
URL:https://club.v-sprint.com/event/pilates-with-emma-3/
LOCATION:Wishing Well\, 16 St John Street\, Bromsgrove\, Worcestershire\, B61 8QY\, United Kingdom
END:VEVENT
BEGIN:VEVENT
DTSTART;VALUE=DATE:20200119
DTEND;VALUE=DATE:20200120
DTSTAMP:20260419T190658
CREATED:20200112T213423Z
LAST-MODIFIED:20200112T215933Z
UID:3228-1579392000-1579478399@club.v-sprint.com
SUMMARY:Cycle Club Bridgnorth Reliability Ride
DESCRIPTION:Starting from Bridgnorth Rugby Club\, Edgar Davies Ground\, Bandon Lane\, WV15 5AD \nTwo routes 57 miles and 33 miles. \n£5 entrance fee (this year supporting Midland Air Ambulance) \nParking\, toilets and refreshments. \nRegister from 8:30 starting at 9:30 \n  \n 
URL:https://club.v-sprint.com/event/cycle-club-bridgnorth-reliability-ride/
LOCATION:Bridgnorth Rugby Club\, Edgar Davies Ground\, Bridgnorth\, Worcestershire\, WV15 5AD\, United Kingdom
CATEGORIES:Reliability,Rides
END:VEVENT
BEGIN:VEVENT
DTSTART;TZID=UTC:20200117T193000
DTEND;TZID=UTC:20200117T230000
DTSTAMP:20260419T190658
CREATED:20191230T145240Z
LAST-MODIFIED:20191230T145241Z
UID:3212-1579289400-1579302000@club.v-sprint.com
SUMMARY:V-Sprint Social - Zingas
DESCRIPTION:
URL:https://club.v-sprint.com/event/v-sprint-social-zingas/
LOCATION:Zingers\, 3 Stoke Road\, Finstall\, Worcestershire\, B603EQ\, United Kingdom
CATEGORIES:Social
END:VEVENT
BEGIN:VEVENT
DTSTART;TZID=UTC:20200113T193000
DTEND;TZID=UTC:20200113T203000
DTSTAMP:20260419T190658
CREATED:20191216T080732Z
LAST-MODIFIED:20191231T173601Z
UID:3163-1578943800-1578947400@club.v-sprint.com
SUMMARY:Pilates with Emma
DESCRIPTION:No previous experience needed\, great for strength and flexibility. \nEmma’s a qualified Physiotherapist so perfect for injury recovery/prevention. \nSpecial rates for club members.
URL:https://club.v-sprint.com/event/pilates-with-emma-2/
LOCATION:Wishing Well\, 16 St John Street\, Bromsgrove\, Worcestershire\, B61 8QY\, United Kingdom
END:VEVENT
BEGIN:VEVENT
DTSTART;VALUE=DATE:20200111
DTEND;VALUE=DATE:20200112
DTSTAMP:20260419T190658
CREATED:20191230T112047Z
LAST-MODIFIED:20200113T003740Z
UID:3186-1578700800-1578787199@club.v-sprint.com
SUMMARY:V-Sprint 100
DESCRIPTION:
URL:https://club.v-sprint.com/event/v-sprint-100-2/
LOCATION:Banners\, 12 Finstall Road\, Bromsgrove\, Worcestershire\, B60 2DZ\, United Kingdom
CATEGORIES:Rides
END:VEVENT
BEGIN:VEVENT
DTSTART;TZID=UTC:20200106T193000
DTEND;TZID=UTC:20200106T203000
DTSTAMP:20260419T190658
CREATED:20191216T080406Z
LAST-MODIFIED:20191231T173653Z
UID:3160-1578339000-1578342600@club.v-sprint.com
SUMMARY:Pilates with Emma
DESCRIPTION:No previous experience needed\, great for strength and flexibility. \nEmma’s a qualified Physiotherapist so perfect for injury recovery/prevention. \nSpecial rates for club members. \n 
URL:https://club.v-sprint.com/event/pilates-with-emma/
LOCATION:Wishing Well\, 16 St John Street\, Bromsgrove\, Worcestershire\, B61 8QY\, United Kingdom
END:VEVENT
BEGIN:VEVENT
DTSTART;VALUE=DATE:20191228
DTEND;VALUE=DATE:20191229
DTSTAMP:20260419T190658
CREATED:20191214T143908Z
LAST-MODIFIED:20191216T092825Z
UID:3144-1577491200-1577577599@club.v-sprint.com
SUMMARY:V-Sprint 100
DESCRIPTION:December 100 a month V-Sprint Challenge \nMeet Banners 8:30am
URL:https://club.v-sprint.com/event/v-sprint-100/
LOCATION:Banners\, 12 Finstall Road\, Bromsgrove\, Worcestershire\, B60 2DZ\, United Kingdom
CATEGORIES:Rides
END:VEVENT
BEGIN:VEVENT
DTSTART;TZID=UTC:20191226T103000
DTEND;TZID=UTC:20191226T123000
DTSTAMP:20260419T190658
CREATED:20191214T141659Z
LAST-MODIFIED:20191216T092917Z
UID:3138-1577356200-1577363400@club.v-sprint.com
SUMMARY:9th Annual V-Sprint Boxing Day Ride
DESCRIPTION:Work off that turkey and Christmas pudding with a 20 mile route at a steady pace aimed at all levels. \nVoluntary charitable contribution with all proceeds going to support CureLeukaemia (GT15.co.uk) \nWhy not bring along the whole family? \nRiders should be capable of riding 20 miles at 10 to 12mph\, have a road worthy bicycle and be properly dressed for the weather conditions. Helmets are advised but not compulsory. As the ride is weather dependant updates will be found on V-Sprint twitter feed or website home page.
URL:https://club.v-sprint.com/event/9th-annual-v-sprint-boxing-day-ride/
LOCATION:Finstall Village Hall\, 27 Alcester Road\, Bromsgrove\, B60 1EL
END:VEVENT
END:VCALENDAR